Workbook
Name MAPELBK: #REF!
Name Pangkat: '1'!#REF!
Name Tahun: '1'!#REF!
Name TambahanTugas: '1'!#REF!
Name TugasGuru: '1'!#REF!
Name TugasTambahan: '1'!#REF!
Name wakasek: 'Instrumen MP'!$D$272:$D$276
Name Wakil_Kepala_Sekolah: #REF!

Sheet 1
B2: PEMERINTAH KABUPATEN LAMONGAN | L2: PENTING ! KOLOM INI SENGAJA DIHIDEN, JANGAN DIDELETE KARENA BERISI FORMULA YANG LINK DG CELL ATAU SHEET LAIN
B3: DINAS PENDIDIKAN
B4: Jalan: KH Ahmad Dahlan No. 73-75 Telp. (0322) 321021 - 324935
B5: E-mail : dinpdk@lamongan.go.id, Website: www.lamongan.go.id
B6: LAMONGAN
B8: INSTRUMEN SUPERVISI AKADEMIK
B9: PENILAIAN KINERJA GURU ( MAPEL )
B11: 1 | C11: No. Urut DUK | F11: 2
B13: 2 | C13: Nama Lengkap | F13: =VLOOKUP(F11,#REF!,2) -> #REF!
K14: 8
B15: 3 | C15: NIP | F15: =VLOOKUP(F11,#REF!,3) -> #REF!
B17: 4 | C17: NUPTK | F17: =VLOOKUP(F11,#REF!,4) -> #REF!
B19: 5 | C19: Pangkat, Gol/Ruang | F19: =VLOOKUP(F11,#REF!,5) -> #REF!
B21: 6 | C21: Pendidikan Terahir/ Jurusan | F21: =VLOOKUP(F11,#REF!,6) -> #REF! | G21: =VLOOKUP(F11,#REF!,7) -> #REF!
B23: 7 | C23: Nama Satminkal | F23: =#REF! -> #REF!
B25: 8 | C25: Mapel / Tugas yang diampu | F25: Pendidikan Agama
B27: 9 | C27: Tugas Tambahan | F27: Wakil Kepala Sekolah
B30: A | C30: KUALIFIKASI GURU | L30: A
L31: NO
B32: 1 | C32: Kualifikasi pendidikan guru mata pelajaran | I32: =IF(N32=4,"4",IF(N32=3,"3",IF(N32=2,"2",IF(N32=1,"1",IF(N32<=0,"0"))))) -> 4 | L32: ='1'!B32 -> 1 | M32: 5 | N32: =M32-1 -> 4
C33: Skor 4, | D33: jika pendidikan S-2 dan S-3
C34: Skor 3, | D34: jika pendidikan S-1 / D-4
C35: Skor 2, | D35: jika pendidikan S-1 Non Kependidikan
C36: Skor 1, | D36: jika pendidikan D-3
C37: Skor 0, | D37: jika pendidikan D-1/ D-2
B39: 2 | C39: Kepemilikan sertifikasi pendidik / guru | I39: =N39 -> 4 | L39: ='1'!B39 -> 2 | M39: 0 | N39: =N40+N41+N42+N43 -> 4
D40: Guru memiliki sertifikat pendidik. | M40: TRUE | N40: =IF(M40=TRUE,"1",IF(M40=FALSE,"0")) -> 1
D41: Guru memiliki sertifikat pendidik sesuai dengan latar belakang Mata pelajaran /progran studi pendidikan S-1. | M41: TRUE | N41: =IF(M41=TRUE,"1",IF(M41=FALSE,"0")) -> 1
D42: Guru mengajar mata pelajaran sesuai dengan Mata pelajaran sertifikasi | M42: TRUE | N42: =IF(M42=TRUE,"1",IF(M42=FALSE,"0")) -> 1
D43: Guru melaksanakan tugas mengajar 24 sd 40 jam di Satminkal | M43: TRUE | N43: =IF(M43=TRUE,"1",IF(M43=FALSE,"0")) -> 1
D44: Guru tidak memiliki sertifikat pendidik | M44: TRUE | N44: =IF(M44=TRUE,"1",IF(M44=FALSE,"0")) -> 1
B46: 3 | C46: Guru mata pelajaran memiliki kompetensi pedagogik, meliputi: (1) mengintegrasikan karakteristik siswa, (2) pembelajaran yang sesuai dengan karakteristik siswa, (3) merancang kegiatan pembelajaran siswa berdasarkan kurikulum, (4) menyelenggarakan pembelajaran yang mendidik, (5) menggunakan teknologi informasi dan komunikasi, (6) mengembangkan potensi siswa, (7) berkomunikasi secara efektif, empati, dan santun, (8) melaksanakan penilaian proses dan hasil belajar, (9) menggunakan hasil penilaian proses dan hasil belajar, (10) melakukan tindakan reflektif. | I46: =IF(N46=4,"4",IF(N46=3,"3",IF(N46=2,"2",IF(N46=1,"1",IF(N46<=0,"0"))))) -> 4 | L46: ='1'!B46 -> 3 | M46: 5 | N46: =M46-1 -> 4
C47: Skor 4, | D47: Guru memiliki 8-9 kriteria kualifikasi akademik
C48: Skor 3, | D48: Guru memiliki 6-7 kriteria kualifikasi akademik
C49: Skor 2, | D49: Guru memiliki 4-5 kriteria kualifikasi akademik
C50: Skor 1, | D50: Guru memiliki 2-3 kriteria kualifikasi akademik
C51: Skor 0, | D51: Guru tidak memenuhi kriteria kualifikasi akademik
B53: 4 | C53: Guru memiliki kompetensi profesional, meliputi: (1) menguasai materi, struktur, konsep, dan pola pikir keilmuan yang mendukung mata pelajaran yang diampu, (2) menguasai kompetensi inti dan kompetensi dasar mata pelajaran yang diampu, (3) mengembangkan materi pembelajaran yang diampu secara kreatif, (4) mengembangkan keprofesionalan secara berkelanjutan dengan melakukan tindakan reflektif, (5) memanfaatkan teknologi informasi dan komunikasi. | I53: =IF(N53=4,"4",IF(N53=3,"3",IF(N53=2,"2",IF(N53=1,"1",IF(N53<=0,"0"))))) -> 4 | L53: ='1'!B53 -> 4 | M53: 5 | N53: =M53-1 -> 4
C54: Skor 4, | D54: Guru memiliki 5 kriteria kualifikasi profesional
C55: Skor 3, | D55: Guru memiliki 4 kriteria kualifikasi profesional
...

Sheet Instrumen MP
B2: PEMERINTAH KABUPATEN LAMONGAN | M2: PENTING ! KOLOM INI SENGAJA DIHIDEN, JANGAN DIDELETE KARENA BERISI FORMULA YANG LINK DG CELL ATAU SHEET LAIN
B3: DINAS PENDIDIKAN
B4: Jalan: KH Ahmad Dahlan No. 73-75 Telp. (0322) 321021 - 324935
B5: E-mail : dinpdk@lamongan.go.id, Website: www.lamongan.go.id
B6: LAMONGAN
B8: INSTRUMEN PENILAIAN KINERJA GURU
B9: MATA PELAJARAN TAHUN 2026
B11: 1 | C11: No. Urut DUK
B13: 2 | C13: Nama Lengkap | F13: MUHAMMAD
L14: 8
B15: 3 | C15: NIP | F15: -
B17: 4 | C17: NUPTK
B19: 5 | C19: Pangkat, Gol/Ruang | F19: -
B21: 6 | C21: Pendidikan Terahir/ Jurusan | F21: S1 | G21: PAI
B23: 7 | C23: Nama Satminkal | F23: SMP Ma'arif 4 Mantup
B25: 8 | C25: Mapel / Tugas yang diampu | F25: -
B27: 9 | C27: Tugas Tambahan | F27: -
B30: A | C30: KUALIFIKASI GURU | M30: A
M31: NO
B32: 1 | C32: Kualifikasi pendidikan guru mata pelajaran | I32: 4 | M32: ='Instrumen MP'!B32 -> 1 | N32: 0 | O32: =N32-1 -> -1 | P32: =IF(O32>=1,"1",IF(O32<=0,"0")) -> 0
C33: Skor 4, | D33: jika pendidikan S-2 dan S-3
C34: Skor 3, | D34: jika pendidikan S-1 / D-4
C35: Skor 2, | D35: jika pendidikan S-1 Non Kependidikan
C36: Skor 1, | D36: jika pendidikan D-3
C37: Skor 0, | D37: jika pendidikan D-1/ D-2
B39: 2 | C39: Kepemilikan sertifikasi pendidik / guru | M39: ='Instrumen MP'!B39 -> 2 | N39: 0 | O39: =O40+O41+O42+O43 -> 1 | P39: =IF(O39>=1,"1",IF(O39<=0,"0")) -> 1
C40: Skor: 4 | D40: Memiliki Sertifikat Pendidik dan sesuai/linear dengan bidang tugas atau mata pelajaran yang diampu dan memiliki beban tugas minimal 24 JP. | N40: FALSE | O40: =IF(N40=TRUE,"1",IF(N40=FALSE,"0")) -> 0
C41: Skor: 3 | D41: Memiliki Sertifikat Pendidik, tetapi kesesuaian dengan bidang tugas perlu ditingkatkan/diverifikasi dan memiliki beban tugas minimal 24 JP. | N41: FALSE | O41: =IF(N41=TRUE,"1",IF(N41=FALSE,"0")) -> 0
C42: Skor: 2 | D42: Memiliki Sertifikat Pendidik dan sesuai/linear dengan bidang tugas atau mata pelajaran yang diampu dan memiliki beban tugas kurang dari 24 JP. | N42: FALSE | O42: =IF(N42=TRUE,"1",IF(N42=FALSE,"0")) -> 0
C43: Skor: 1 | D43: Belum memiliki Sertifikat Pendidik, tetapi sedang mengikuti atau memenuhi proses menuju sertifikasi | N43: TRUE | O43: =IF(N43=TRUE,"1",IF(N43=FALSE,"0")) -> 1
C44: Skor: 0 | D44: Belum memiliki Sertifikat Pendidik dan belum dalam proses sertifikasi | N44: FALSE | O44: =IF(N44=TRUE,"1",IF(N44=FALSE,"0")) -> 0
B46: B | C46: PERENCANAAN PEMBELAJARAN
B48: 3 | C48: Guru melakukan Pemetaan Capaian Pembelajaran (CP), sesuai dengan mata pelajaran yang diampu | M48: =B48 -> 3 | O48: =O52+O51+O50+O49 -> 0 | P48: =IF(O48>=1,"1",IF(O48<=0,"0")) -> 0
D49: Menganalisis Capaian Pembelajaran ( CP ) berdasarkan kontennya | N49: FALSE | O49: =IF(N49=TRUE,"1",IF(N49=FALSE,"0")) -> 0
D50: Menganalisis Capaian Pembelajaran ( CP ) berdasarkan kompetensinya | N50: FALSE | O50: =IF(N50=TRUE,"1",IF(N50=FALSE,"0")) -> 0
D51: Menganalisis Capaian Pembelajaran ( CP ) berdasarkan tingkatan kelas | N51: FALSE | O51: =IF(N51=TRUE,"1",IF(N51=FALSE,"0")) -> 0
D52: Membuat Pemetaan analisis CP berdasarkan tingkatan kelas tiap semester | N52: FALSE | O52: =IF(N52=TRUE,"1",IF(N52=FALSE,"0")) -> 0
D53: Guru tidak memiliki analisis CP
B55: 4 | C55: Guru memiliki dokumen Tujuan Pembelajaran (TP) yang dianalisis dari Capaian Pembelajaran (CP) | M55: =B55 -> 4 | O55: =O59+O58+O57+O56 -> 0 | P55: =IF(O55>=1,"1",IF(O55<=0,"0")) -> 0
D56: Guru memiliki dokumen TP yang dianalisis secara komprehensif dari CP, | N56: FALSE | O56: =IF(N56=TRUE,"1",IF(N56=FALSE,"0")) -> 0
...

Sheet HASIL
B2: PEMERINTAH KABUPATEN LAMONGAN
B3: DINAS PENDIDIKAN
B4: Jalan: KH Ahmad Dahlan No. 73-75 Telp. (0322) 321021 - 324935
B5: E-mail : dinpdk@lamongan.go.id, Website: www.lamongan.go.id
B6: LAMONGAN
B8: HASIL SUPERVISI AKADEMIK
B9: PENILAIAN KINERJA GURU
B11: No. Urut DUK
B13: Nama Lengkap | E13: ='Instrumen MP'!F13 -> MUHAMMAD
B15: NIP | E15: ='Instrumen MP'!F15 -> -
B17: NUPTK | E17: ='Instrumen MP'!F17 -> 0
B19: Pangkat, Gol/Ruang | E19: ='Instrumen MP'!F19 -> -
B21: Pendidikan Terakhir , Jurusan / Prodi | E21: ='Instrumen MP'!F21 -> S1 | F21: ='Instrumen MP'!G21 -> PAI
B23: Sertifikat Pendidik / Tahun
B25: Mata Pelajaran yang diampu | E25: ='Instrumen MP'!F25 -> -
B27: Nama Satminkal | E27: ='Instrumen MP'!F23 -> SMP Ma'arif 4 Mantup
B30: A. Nilai Kinerja
B32: NO | C32: KRITERIA | E32: MINIMAL | F32: CAPAIAN | G32: PREDIKAT
B33: 1 | C33: KUALIFIKASI PENDIDIKAN | E33: 81 | F33: ='Instrumen MP'!H229 -> 50 | G33: =IF(F33>=91, "Amat Baik", IF(F33>=81, "Baik", IF(F33>=71, "Cukup", IF(F33>=60, "Kurang", "Amat Kurang")))) -> Amat Kurang | H33: A
B34: 2 | C34: PERENCANAAN PEMBELAJARAN | E34: 81 | F34: ='Instrumen MP'!H230 -> 25 | G34: =IF(F34>=91, "Amat Baik", IF(F34>=81, "Baik", IF(F34>=71, "Cukup", IF(F34>=60, "Kurang", "Amat Kurang")))) -> Amat Kurang | H34: A
B35: 3 | C35: PELAKSANAAN PEMBELAJARAN | E35: 81 | F35: ='Instrumen MP'!H231 -> 25 | G35: =IF(F35>=91, "Amat Baik", IF(F35>=81, "Baik", IF(F35>=71, "Cukup", IF(F35>=60, "Kurang", "Amat Kurang")))) -> Amat Kurang | H35: A
B36: 4 | C36: PENILAIAN PEMBELAJARAN | E36: 81 | F36: ='Instrumen MP'!H232 -> 14.285714 | G36: =IF(F36>=91, "Amat Baik", IF(F36>=81, "Baik", IF(F36>=71, "Cukup", IF(F36>=60, "Kurang", "Amat Kurang")))) -> Amat Kurang | H36: A
B37: 5 | C37: PENGEMBANGAN PROFESI | E37: 81 | F37: ='Instrumen MP'!H233 -> 25 | G37: =IF(F37>=91, "Amat Baik", IF(F37>=81, "Baik", IF(F37>=71, "Cukup", IF(F37>=60, "Kurang", "Amat Kurang")))) -> Amat Kurang | H37: A
B38: 6 | C38: TUGAS TAMBAHAN/KEGIATAN LAIN | E38: 81 | F38: ='Instrumen MP'!H234 -> 87.5 | G38: =IF(F38>=91, "Amat Baik", IF(F38>=81, "Baik", IF(F38>=71, "Cukup", IF(F38>=60, "Kurang", "Amat Kurang")))) -> Baik | H38: A
B39: 7 | C39: DISIPLIN DAN ETOS KERJA GURU | E39: 81 | F39: ='Instrumen MP'!H235 -> 50 | G39: =IF(F39>=91, "Amat Baik", IF(F39>=81, "Baik", IF(F39>=71, "Cukup", IF(F39>=60, "Kurang", "Amat Kurang")))) -> Amat Kurang | H39: A
B40: 8 | C40: NILAI AKHIR | E40: 81 | F40: =AVERAGE(F33:F39) -> 39.540816 | G40: =IF(F40>=91, "Amat Baik", IF(F40>=81, "Baik", IF(F40>=71, "Cukup", IF(F40>=60, "Kurang", "Amat Kurang")))) -> Amat Kurang | H40: A
B42: B. Kesimpulan
B43: 2.5641026 | C43: Tidak memiliki predikat
B45: C. Rekomendasi
B46: 2.5641026 | C46: Diusulkan untuk dialih tugaskan di bagian administrasi
E50: Lamongan ,
B51: Guru Mata Pelajaran | E51: Pengawas
B54: ='Instrumen MP'!D242 -> MUHAMMAD | E54: ='Instrumen MP'!G242 -> SUHARTONO, S.Pd., M.Pd.
B55: ='Instrumen MP'!D243 -> NIP. - | E55: ='Instrumen MP'!G243 -> NIP. 19630207 198412 1 005
C58: Mengetahui
C59: Kepala Sekolah
C62: WAIMAN, S.Pd.
