Workbook
Name MAPELBK: #REF!
Name Pangkat: '1'!#REF!
Name Tahun: '1'!#REF!
Name TambahanTugas: '1'!#REF!
Name TugasGuru: '1'!#REF!
Name TugasTambahan: '1'!#REF!
Name wakasek: 'Instrumen MP'!$D$272:$D$276
Name Wakil_Kepala_Sekolah: #REF!

Sheet 1
B2: PEMERINTAH KABUPATEN LAMONGAN | L2: PENTING ! KOLOM INI SENGAJA DIHIDEN, JANGAN DIDELETE KARENA BERISI FORMULA YANG LINK DG CELL ATAU SHEET LAIN
B3: DINAS PENDIDIKAN
B4: Jalan: KH Ahmad Dahlan No. 73-75 Telp. (0322) 321021 - 324935
B5: E-mail : dinpdk@lamongan.go.id, Website: www.lamongan.go.id
B6: LAMONGAN
B8: INSTRUMEN SUPERVISI AKADEMIK
B9: PENILAIAN KINERJA GURU ( MAPEL )
B11: 1 | C11: No. Urut DUK | F11: 2
B13: 2 | C13: Nama Lengkap | F13: =VLOOKUP(F11,#REF!,2) -> #REF!
K14: 8
B15: 3 | C15: NIP | F15: =VLOOKUP(F11,#REF!,3) -> #REF!
B17: 4 | C17: NUPTK | F17: =VLOOKUP(F11,#REF!,4) -> #REF!
B19: 5 | C19: Pangkat, Gol/Ruang | F19: =VLOOKUP(F11,#REF!,5) -> #REF!
B21: 6 | C21: Pendidikan Terahir/ Jurusan | F21: =VLOOKUP(F11,#REF!,6) -> #REF! | G21: =VLOOKUP(F11,#REF!,7) -> #REF!
B23: 7 | C23: Nama Satminkal | F23: =#REF! -> #REF!
B25: 8 | C25: Mapel / Tugas yang diampu | F25: Pendidikan Agama
B27: 9 | C27: Tugas Tambahan | F27: Wakil Kepala Sekolah
B30: A | C30: KUALIFIKASI GURU | L30: A
L31: NO
B32: 1 | C32: Kualifikasi pendidikan guru mata pelajaran | I32: =IF(N32=4,"4",IF(N32=3,"3",IF(N32=2,"2",IF(N32=1,"1",IF(N32<=0,"0"))))) -> 4 | L32: ='1'!B32 -> 1 | M32: 5 | N32: =M32-1 -> 4
C33: Skor 4, | D33: jika pendidikan S-2 dan S-3
C34: Skor 3, | D34: jika pendidikan S-1 / D-4
C35: Skor 2, | D35: jika pendidikan S-1 Non Kependidikan
C36: Skor 1, | D36: jika pendidikan D-3
C37: Skor 0, | D37: jika pendidikan D-1/ D-2
B39: 2 | C39: Kepemilikan sertifikasi pendidik / guru | I39: =N39 -> 4 | L39: ='1'!B39 -> 2 | M39: 0 | N39: =N40+N41+N42+N43 -> 4
D40: Guru memiliki sertifikat pendidik. | M40: TRUE | N40: =IF(M40=TRUE,"1",IF(M40=FALSE,"0")) -> 1
D41: Guru memiliki sertifikat pendidik sesuai dengan latar belakang Mata pelajaran /progran studi pendidikan S-1. | M41: TRUE | N41: =IF(M41=TRUE,"1",IF(M41=FALSE,"0")) -> 1
D42: Guru mengajar mata pelajaran sesuai dengan Mata pelajaran sertifikasi | M42: TRUE | N42: =IF(M42=TRUE,"1",IF(M42=FALSE,"0")) -> 1
D43: Guru melaksanakan tugas mengajar 24 sd 40 jam di Satminkal | M43: TRUE | N43: =IF(M43=TRUE,"1",IF(M43=FALSE,"0")) -> 1
D44: Guru tidak memiliki sertifikat pendidik | M44: TRUE | N44: =IF(M44=TRUE,"1",IF(M44=FALSE,"0")) -> 1
B46: 3 | C46: Guru mata pelajaran memiliki kompetensi pedagogik, meliputi: (1) mengintegrasikan karakteristik siswa, (2) pembelajaran yang sesuai dengan karakteristik siswa, (3) merancang kegiatan pembelajaran siswa berdasarkan kurikulum, (4) menyelenggarakan pembelajaran yang mendidik, (5) menggunakan teknologi informasi dan komunikasi, (6) mengembangkan potensi siswa, (7) berkomunikasi secara efektif, empati, dan santun, (8) melaksanakan penilaian proses dan hasil belajar, (9) menggunakan hasil penilaian proses dan hasil belajar, (10) melakukan tindakan reflektif. | I46: =IF(N46=4,"4",IF(N46=3,"3",IF(N46=2,"2",IF(N46=1,"1",IF(N46<=0,"0"))))) -> 4 | L46: ='1'!B46 -> 3 | M46: 5 | N46: =M46-1 -> 4
C47: Skor 4, | D47: Guru memiliki 8-9 kriteria kualifikasi akademik
C48: Skor 3, | D48: Guru memiliki 6-7 kriteria kualifikasi akademik
C49: Skor 2, | D49: Guru memiliki 4-5 kriteria kualifikasi akademik
C50: Skor 1, | D50: Guru memiliki 2-3 kriteria kualifikasi akademik
C51: Skor 0, | D51: Guru tidak memenuhi kriteria kualifikasi akademik
B53: 4 | C53: Guru memiliki kompetensi profesional, meliputi: (1) menguasai materi, struktur, konsep, dan pola pikir keilmuan yang mendukung mata pelajaran yang diampu, (2) menguasai kompetensi inti dan kompetensi dasar mata pelajaran yang diampu, (3) mengembangkan materi pembelajaran yang diampu secara kreatif, (4) mengembangkan keprofesionalan secara berkelanjutan dengan melakukan tindakan reflektif, (5) memanfaatkan teknologi informasi dan komunikasi. | I53: =IF(N53=4,"4",IF(N53=3,"3",IF(N53=2,"2",IF(N53=1,"1",IF(N53<=0,"0"))))) -> 4 | L53: ='1'!B53 -> 4 | M53: 5 | N53: =M53-1 -> 4
C54: Skor 4, | D54: Guru memiliki 5 kriteria kualifikasi profesional
C55: Skor 3, | D55: Guru memiliki 4 kriteria kualifikasi profesional
C56: Skor 2, | D56: Guru memiliki 3 kriteria kualifikasi profesional
C57: Skor 1, | D57: Guru memiliki 2 kriteria kualifikasi profesional
C58: Skor 0, | D58: Guru tidak memenuhi kriteria kualifikasi profesional
B60: 5 | C60: Guru memiliki kompetensi kepribadian, meliputi: (1) bertindak sesuai dengan norma agama, hukum, sosial, dan kebudayaan, (2) menampilkan diri sebagai pribadi yang jujur, berakhlak mulia, dan teladan, (3) menampilkan diri sebagai pribadi yang mantap, stabil, dewasa, arif, dan berwibawa, (4) menunjukkan etos kerja, tanggung jawab, rasa bangga menjadi guru, dan rasa percaya diri, (5) menjunjung tinggi kode etik profesi | I60: =IF(N60=4,"4",IF(N60=3,"3",IF(N60=2,"2",IF(N60=1,"1",IF(N60<=0,"0"))))) -> 4 | L60: ='1'!B60 -> 5 | M60: 5 | N60: =M60-1 -> 4
C61: Skor 4, | D61: Guru memiliki 5 kriteria kualifikasi kepribadian
C62: Skor 3, | D62: Guru memiliki 4 kriteria kualifikasi kepribadian
C63: Skor 2, | D63: Guru memiliki 3 kriteria kualifikasi kepribadian
C64: Skor 1, | D64: Guru memiliki 2 kriteria kualifikasi kepribadian
C65: Skor 0, | D65: Guru tidak memenuhi kriteria kualifikasi kepribadian
B67: 6 | C67: Guru memiliki kompetensi sosial yang ditunjukkan melalui komunikasi yang efektif dan santun dengan: (1) sesama guru, (2) tenaga kependidikan, (3) siswa, (4) orangtua siswa, (5) masyarakat. | I67: =IF(N67=4,"4",IF(N67=3,"3",IF(N67=2,"2",IF(N67=1,"1",IF(N67<=0,"0"))))) -> 4 | L67: ='1'!B67 -> 6 | M67: 5 | N67: =M67-1 -> 4
C68: Skor 4, | D68: Guru memiliki 5 kriteria kualifikasi sosial
C69: Skor 3, | D69: Guru memiliki 4 kriteria kualifikasi sosial
C70: Skor 2, | D70: Guru memiliki 3 kriteria kualifikasi sosial
C71: Skor 1, | D71: Guru memiliki 2 kriteria kualifikasi sosial
C72: Skor 0, | D72: Guru tidak memenuhi kriteria kualifikasi sosial | O72: =N32+N39+N46+N53+N60+N67 -> 24
B74: B | C74: PERENCANAAN PEMBELAJARAN
B76: 7 | C76: Guru melakukan analisis Standar Kompetensi (SK) Kompetensi Inti (KI) dan Kompetensi Dasar (KD), sesuai dengan mata pelajaran yang diampu | I76: =N76 -> 4 | L76: =B76 -> 7 | N76: =N80+N79+N78+N77 -> 4
D77: Menganalisis tingkatan ranah KD untuk seluruh SK dan KD dalam satu tahun | M77: TRUE | N77: =IF(M77=TRUE,"1",IF(M77=FALSE,"0")) -> 1
D78: Menganalisis tingkatan ranah IPK untuk seluruh indikator dalam satu tahun | M78: TRUE | N78: =IF(M78=TRUE,"1",IF(M78=FALSE,"0")) -> 1
D79: Memuat materi, ruang lingkup dan alokasi waktu KD dalam satu tahun | M79: TRUE | N79: =IF(M79=TRUE,"1",IF(M79=FALSE,"0")) -> 1
D80: Analisis SK dan KD disusun sendiri oleh guru mapel dan disahkan Kepala sekolah | M80: TRUE | N80: =IF(M80=TRUE,"1",IF(M80=FALSE,"0")) -> 1
D81: Guru tidak memiliki analisis SK/KI dan KD.
B83: 8 | C83: Guru menyusun silabus mata pelajaran yang memuat kompetensi sikap spiritual, kompetensi sikap sosial, kompetensi pengetahuan, kompetensi keterampilan dengan integrasi nilai karakter. | I83: =N83 -> 4 | L83: =B83 -> 8 | N83: =N87+N86+N85+N84 -> 4
D84: Silabus dikembangkan sesuai tingkat kompetensi sikap spiritual | M84: TRUE | N84: =IF(M84=TRUE,"1",IF(M84=FALSE,"0")) -> 1
D85: Silabus dikembangkan sesuai tingkat kompetensi sikap sosial | M85: TRUE | N85: =IF(M85=TRUE,"1",IF(M85=FALSE,"0")) -> 1
D86: Silabus dikembangkan sesuai tingkat kompetensi pengetahuan | M86: TRUE | N86: =IF(M86=TRUE,"1",IF(M86=FALSE,"0")) -> 1
D87: Silabus dikembangkan sesuai tingkat kompetensi ketrampilan | M87: TRUE | N87: =IF(M87=TRUE,"1",IF(M87=FALSE,"0")) -> 1
D88: Guru tidak memiliki Silabus | M88: TRUE
B90: 9 | C90: Guru memiliki silabus dengan mencakup komponen : | I90: =N90 -> 4 | L90: =B90 -> 9 | N90: =N94+N93+N92+N91 -> 4
D91: Silabus memuat Identitas sekolah, Standar Kompetensi, Kompetensi dasar dan Materi pokok. | M91: TRUE | N91: =IF(M91=TRUE,"1",IF(M91=FALSE,"0")) -> 1
D92: Silabus memuat pengembangan kegiatan Pembelajaran yang sesuai dengan Indikator, | M92: TRUE | N92: =IF(M92=TRUE,"1",IF(M92=FALSE,"0")) -> 1
D93: Silabus memuat penilaian yang diuraikan dengan teknik, instrumen dan contoh penilaian. | M93: TRUE | N93: =IF(M93=TRUE,"1",IF(M93=FALSE,"0")) -> 1
D94: Silabus ditanda tangani guru yang bersangkutan dan disahkan oleh Kepala sekolah | M94: TRUE | N94: =IF(M94=TRUE,"1",IF(M94=FALSE,"0")) -> 1
D95: Guru tidak memiliki silabus | M95: TRUE | N95: =IF(M95=TRUE,"1",IF(M95=FALSE,"0")) -> 1
B97: 10 | C97: Guru memiliki kalender pendidikan sekolah yang berlaku pada tahun ajaran berjalan | I97: =N97 -> 4 | L97: =B97 -> 10 | N97: =N101+N100+N99+N98 -> 4
D98: Kalender pendidikan memuat hari efektif, | M98: TRUE | N98: =IF(M98=TRUE,"1",IF(M98=FALSE,"0")) -> 1
D99: Kalender pendidikan memuat hari non efektif. | M99: TRUE | N99: =IF(M99=TRUE,"1",IF(M99=FALSE,"0")) -> 1
D100: Kalender pendidikan memuat PTS, PAS, USBN, PAT | M100: TRUE | N100: =IF(M100=TRUE,"1",IF(M100=FALSE,"0")) -> 1
D101: Kalender pendidikan memuat hari-hari libur. | M101: TRUE | N101: =IF(M101=TRUE,"1",IF(M101=FALSE,"0")) -> 1
D102: Tidak memiliki kalender pendidikan | M102: TRUE | N102: =IF(M102=TRUE,"1",IF(M102=FALSE,"0")) -> 1
B104: 11 | C104: Guru menyusun Rincian Pekan Efektif (RPE) dengan Alokasi Waktu | I104: =N104 -> 4 | L104: =B104 -> 11 | N104: =N108+N107+N106+N105 -> 4
D105: RPE memuat perhitungan banyak pekan dalam satu semester | M105: TRUE | N105: =IF(M105=TRUE,"1",IF(M105=FALSE,"0")) -> 1
D106: RPE memuat banyak pekan yang tidak efektif dalam satu semester | M106: TRUE | N106: =IF(M106=TRUE,"1",IF(M106=FALSE,"0")) -> 1
D107: RPE memuat banyak pekan yang efektif dalam satu semester | M107: TRUE | N107: =IF(M107=TRUE,"1",IF(M107=FALSE,"0")) -> 1
D108: RPE memuat distribusi alokasi waktu TM,PH, PTS, PAS/PAT, Kegiatan remidi | M108: TRUE | N108: =IF(M108=TRUE,"1",IF(M108=FALSE,"0")) -> 1
D109: Jika tidak memiliki RPE | M109: TRUE | N109: =IF(M109=TRUE,"1",IF(M109=FALSE,"0")) -> 1
B111: 12 | C111: Guru menyusun Program Tahunan (Prota) sesuai dengan mata pelajaran yang diampu | I111: =N111 -> 4 | L111: =B111 -> 12 | N111: =N115+N114+N113+N112 -> 4
D112: Prota memuat KI dan KD tiap semester dalam waktu satu tahun | M112: TRUE | N112: =IF(M112=TRUE,"1",IF(M112=FALSE,"0")) -> 1
D113: Prota memuat jenis-jenis penilaian, minggu non efektif dan cadangan waktu | M113: TRUE | N113: =IF(M113=TRUE,"1",IF(M113=FALSE,"0")) -> 1
D114: Prota memuat rincian alokasi waktu tiap semester dalam waktu satu tahun. | M114: TRUE | N114: =IF(M114=TRUE,"1",IF(M114=FALSE,"0")) -> 1
D115: Prota ditanda tangani guru dan disahkan oelh Kepala sekolah | M115: TRUE | N115: =IF(M115=TRUE,"1",IF(M115=FALSE,"0")) -> 1
D116: Tidak memiliki Prota | M116: TRUE | N116: =IF(M116=TRUE,"1",IF(M116=FALSE,"0")) -> 1
B118: 13 | C118: Guru menyusun Program Semester (Promes) sesuai dengan matpel yang diampu | I118: =N118 -> 4 | L118: =B118 -> 13 | N118: =N122+N121+N120+N119 -> 4
D119: Promes memuat SK, KD dan indikator dalam waktu satu semester. | M119: TRUE | N119: =IF(M119=TRUE,"1",IF(M119=FALSE,"0")) -> 1
D120: Promes memuat rencana penilaian dan cadangan waktu selama satu semester | M120: TRUE | N120: =IF(M120=TRUE,"1",IF(M120=FALSE,"0")) -> 1
D121: Promes memuat alokasi dan distribusi waktu tiap pekan dalam satu semester | M121: TRUE | N121: =IF(M121=TRUE,"1",IF(M121=FALSE,"0")) -> 1
D122: Promes ditanda tangani guru dan disahkan oleh Kepala sekolah | M122: TRUE | N122: =IF(M122=TRUE,"1",IF(M122=FALSE,"0")) -> 1
D123: Jika Tidak memiliki program semester | M123: TRUE | N123: =IF(M123=TRUE,"1",IF(M123=FALSE,"0")) -> 1
B125: 14 | C125: Guru menetapkan Kriteria Ketuntasan Minimal (KKM) pada matpel yang diampu | I125: =N125 -> 4 | L125: =B125 -> 14 | N125: =N129+N128+N127+N126 -> 4
D126: KKM ditetapkan dengan mempertimbangkan kompleksitas setiap KD yang harus dicapai oleh peserta didik melalui analisis data kompleksitas yang benar. | M126: TRUE | N126: =IF(M126=TRUE,"1",IF(M126=FALSE,"0")) -> 1
...

Sheet Instrumen MP
B2: PEMERINTAH KABUPATEN LAMONGAN | M2: PENTING ! KOLOM INI SENGAJA DIHIDEN, JANGAN DIDELETE KARENA BERISI FORMULA YANG LINK DG CELL ATAU SHEET LAIN
B3: DINAS PENDIDIKAN
B4: Jalan: KH Ahmad Dahlan No. 73-75 Telp. (0322) 321021 - 324935
B5: E-mail : dinpdk@lamongan.go.id, Website: www.lamongan.go.id
B6: LAMONGAN
B8: INSTRUMEN PENILAIAN KINERJA GURU
B9: MATA PELAJARAN TAHUN 2026
B11: 1 | C11: No. Urut DUK
B13: 2 | C13: Nama Lengkap | F13: MUHAMMAD
L14: 8
B15: 3 | C15: NIP | F15: -
B17: 4 | C17: NUPTK
B19: 5 | C19: Pangkat, Gol/Ruang | F19: -
B21: 6 | C21: Pendidikan Terahir/ Jurusan | F21: S1 | G21: PAI
B23: 7 | C23: Nama Satminkal | F23: SMP Ma'arif 4 Mantup
B25: 8 | C25: Mapel / Tugas yang diampu | F25: -
B27: 9 | C27: Tugas Tambahan | F27: -
B30: A | C30: KUALIFIKASI GURU | M30: A
M31: NO
B32: 1 | C32: Kualifikasi pendidikan guru mata pelajaran | I32: 4 | M32: ='Instrumen MP'!B32 -> 1 | N32: 0 | O32: =N32-1 -> -1 | P32: =IF(O32>=1,"1",IF(O32<=0,"0")) -> 0
C33: Skor 4, | D33: jika pendidikan S-2 dan S-3
C34: Skor 3, | D34: jika pendidikan S-1 / D-4
C35: Skor 2, | D35: jika pendidikan S-1 Non Kependidikan
C36: Skor 1, | D36: jika pendidikan D-3
C37: Skor 0, | D37: jika pendidikan D-1/ D-2
B39: 2 | C39: Kepemilikan sertifikasi pendidik / guru | M39: ='Instrumen MP'!B39 -> 2 | N39: 0 | O39: =O40+O41+O42+O43 -> 1 | P39: =IF(O39>=1,"1",IF(O39<=0,"0")) -> 1
C40: Skor: 4 | D40: Memiliki Sertifikat Pendidik dan sesuai/linear dengan bidang tugas atau mata pelajaran yang diampu dan memiliki beban tugas minimal 24 JP. | N40: FALSE | O40: =IF(N40=TRUE,"1",IF(N40=FALSE,"0")) -> 0
C41: Skor: 3 | D41: Memiliki Sertifikat Pendidik, tetapi kesesuaian dengan bidang tugas perlu ditingkatkan/diverifikasi dan memiliki beban tugas minimal 24 JP. | N41: FALSE | O41: =IF(N41=TRUE,"1",IF(N41=FALSE,"0")) -> 0
C42: Skor: 2 | D42: Memiliki Sertifikat Pendidik dan sesuai/linear dengan bidang tugas atau mata pelajaran yang diampu dan memiliki beban tugas kurang dari 24 JP. | N42: FALSE | O42: =IF(N42=TRUE,"1",IF(N42=FALSE,"0")) -> 0
C43: Skor: 1 | D43: Belum memiliki Sertifikat Pendidik, tetapi sedang mengikuti atau memenuhi proses menuju sertifikasi | N43: TRUE | O43: =IF(N43=TRUE,"1",IF(N43=FALSE,"0")) -> 1
C44: Skor: 0 | D44: Belum memiliki Sertifikat Pendidik dan belum dalam proses sertifikasi | N44: FALSE | O44: =IF(N44=TRUE,"1",IF(N44=FALSE,"0")) -> 0
B46: B | C46: PERENCANAAN PEMBELAJARAN
B48: 3 | C48: Guru melakukan Pemetaan Capaian Pembelajaran (CP), sesuai dengan mata pelajaran yang diampu | M48: =B48 -> 3 | O48: =O52+O51+O50+O49 -> 0 | P48: =IF(O48>=1,"1",IF(O48<=0,"0")) -> 0
D49: Menganalisis Capaian Pembelajaran ( CP ) berdasarkan kontennya | N49: FALSE | O49: =IF(N49=TRUE,"1",IF(N49=FALSE,"0")) -> 0
D50: Menganalisis Capaian Pembelajaran ( CP ) berdasarkan kompetensinya | N50: FALSE | O50: =IF(N50=TRUE,"1",IF(N50=FALSE,"0")) -> 0
D51: Menganalisis Capaian Pembelajaran ( CP ) berdasarkan tingkatan kelas | N51: FALSE | O51: =IF(N51=TRUE,"1",IF(N51=FALSE,"0")) -> 0
D52: Membuat Pemetaan analisis CP berdasarkan tingkatan kelas tiap semester | N52: FALSE | O52: =IF(N52=TRUE,"1",IF(N52=FALSE,"0")) -> 0
D53: Guru tidak memiliki analisis CP
B55: 4 | C55: Guru memiliki dokumen Tujuan Pembelajaran (TP) yang dianalisis dari Capaian Pembelajaran (CP) | M55: =B55 -> 4 | O55: =O59+O58+O57+O56 -> 0 | P55: =IF(O55>=1,"1",IF(O55<=0,"0")) -> 0
D56: Guru memiliki dokumen TP yang dianalisis secara komprehensif dari CP, | N56: FALSE | O56: =IF(N56=TRUE,"1",IF(N56=FALSE,"0")) -> 0
D57: Guru memiliki dokumen TP yang dianalisis secara mandiri dan sistematis dari CP. | N57: FALSE | O57: =IF(N57=TRUE,"1",IF(N57=FALSE,"0")) -> 0
D58: Guru memiliki dokumen TP, namun analisis dari CP masih terbatas/sebagian kecil. | N58: FALSE | O58: =IF(N58=TRUE,"1",IF(N58=FALSE,"0")) -> 0
D59: Guru memiliki dokumen TP, tetapi tidak disusun berdasarkan capaian pembelajaran | N59: FALSE | O59: =IF(N59=TRUE,"1",IF(N59=FALSE,"0")) -> 0
D60: Guru belum memiliki dokumen TP, | N60: FALSE
B62: 5 | C62: Kelengkapan dan kualitas dokumen Alur Tujuan Pembelajaran (ATP) yang dimiliki guru sesuai ketentuan kurikulum. | I62: 3 | M62: =B62 -> 5 | O62: =O66+O65+O64+O63 -> 0 | P62: =IF(O62>=1,"1",IF(O62<=0,"0")) -> 0
D63: ATP lengkap, runtut secara kronologis dan logis dari TP hasil analisis CP, dilengkapi dengan alokasi waktu yang rasional, pemetaan pemahaman bermakna, serta fleksibel untuk diterapkan dalam penyusunan modul ajar/RPP. | N63: FALSE | O63: =IF(N63=TRUE,"1",IF(N63=FALSE,"0")) -> 0
D64: ATP lengkap disusun secara logis dan sistematis berdasarkan TP hasil analisis CP, namun masih terdapat beberapa komponen kurang detail. | N64: FALSE | O64: =IF(N64=TRUE,"1",IF(N64=FALSE,"0")) -> 0
D65: ATP ada, tetapi analisis CP dan keterkaitan antar-TP belum runtut. | N65: FALSE | O65: =IF(N65=TRUE,"1",IF(N65=FALSE,"0")) -> 0
D66: ATP tidak lengkap, belum disusun berdasarkan analisis CP dan belum menunjukkan keselarasan serta urutan TP yang jelas. | N66: FALSE | O66: =IF(N66=TRUE,"1",IF(N66=FALSE,"0")) -> 0
D67: Guru tidak memiliki dokumen ATP | N67: FALSE | O67: =IF(N67=TRUE,"1",IF(N67=FALSE,"0")) -> 0
B69: 6 | C69: Guru merujuk Kalender Pendidikan Satuan Pendidikan yang berlaku pada tahun ajaran berjalan sebagai acuan dalam menyusun Program Tahunan, Program Semester, dan merencanakan pelaksanaan pembelajaran serta penilaian. | M69: =B69 -> 6 | O69: =O73+O72+O71+O70 -> 0 | P69: =IF(O69>=1,"1",IF(O69<=0,"0")) -> 0
C70: Skor: 4 | D70: Guru secara konsisten merujuk Kalender Pendidikan dalam menyusun Prota, Promes, RPM/Modul Ajar dan pelaksanaan pembelajaran serta penilaian, sesuai dengan alokasi waktu, hari efektif dan kontekstual dengan kegiatan internal sekolah di kalender tersebut | N70: FALSE | O70: =IF(N70=TRUE,"1",IF(N70=FALSE,"0")) -> 0
C71: Skor: 3 | D71: Guru secara konsisten merujuk Kalender Pendidikan dalam menyusun Prota, Promes, RPM/Modul Ajar dan pelaksanaan pembelajaran serta penilaian, sesuai dengan alokasi waktu, hari efektif dan namun belum kontekstual secara optimal dengan kegiatan internal sekolah di kalender tersebut | N71: FALSE | O71: =IF(N71=TRUE,"1",IF(N71=FALSE,"0")) -> 0
C72: Skor: 2 | D72: Guru secara konsisten merujuk Kalender Pendidikan dalam menyusun Prota, Promes, namun terdapat 1-2 ketidaksesuaian kecil dalam RPM/Modul Ajar. | N72: FALSE | O72: =IF(N72=TRUE,"1",IF(N72=FALSE,"0")) -> 0
C73: Skor: 1 | D73: Guru memiliki dokumen Kalender Pendidikan tetapi tidak secara konsisten dijadikan dalam acuan perencanaan pembelajaran. | N73: FALSE | O73: =IF(N73=TRUE,"1",IF(N73=FALSE,"0")) -> 0
C74: Skor: 0 | D74: Guru tidak memiliki dan tidak merujuk dokumen Kalender Pendidikan tahun ajaran berjalan. | N74: FALSE | O74: =IF(N74=TRUE,"1",IF(N74=FALSE,"0")) -> 0
B76: 7 | C76: Guru memiliki dokumen Kriteria Ketercapaian Tujuan Pembelajaran (KKTP) pada matpel yang diampu | M76: =B76 -> 7 | O76: =O80+O79+O78+O77 -> 1 | P76: =IF(O76>=1,"1",IF(O76<=0,"0")) -> 1
C77: Skor: 4 | D77: Guru memiliki dokumen KKTP yang lengkap, jelas, terukur, dan selaras dengan Tujuan Pembelajaran (TP) serta digunakan sebagai acuan dalam asesmen dan menentukan ketercapaian belajar peserta didik. | N77: FALSE | O77: =IF(N77=TRUE,"1",IF(N77=FALSE,"0")) -> 0
C78: Skor: 3 | D78: Guru memiliki dokumen KKTP yang sesuai dengan sebagian besar TP dan cukup terukur, dan selaras dengan Tujuan Pembelajaran (TP) serta digunakan sebagai acuan dalam asesmen dan menentukan ketercapaian belajar peserta didik. | N78: TRUE | O78: =IF(N78=TRUE,"1",IF(N78=FALSE,"0")) -> 1
C79: Skor:2 | D79: Guru memiliki dokumen KKTP, tetapi belum lengkap, belum seluruhnya selaras dengan TP, atau kriteria ketercapaiannya belum dirumuskan secara jelas dan terukur. | N79: FALSE | O79: =IF(N79=TRUE,"1",IF(N79=FALSE,"0")) -> 0
C80: Skor:1 | D80: Guru memiliki dokumen KKTP yang belum dapat digunakan sebagai acuan untuk menentukan ketercapaian Tujuan Pembelajaran peserta didik. | N80: FALSE | O80: =IF(N80=TRUE,"1",IF(N80=FALSE,"0")) -> 0
C81: Skor:0 | D81: Guru belum memiliki dokumen KKTP | N81: FALSE | O81: =IF(N81=TRUE,"1",IF(N81=FALSE,"0")) -> 0
B83: 8 | C83: Guru memiliki dokumen RPM/ Modul Ajar sesuai mata pelajaran yang diampu lengkap dengan 8 komponen utama; 1) Identitas Modul, 2) Kompetensi Awal, 3) Sarana dan Prasarana, 4) Target Peserta Didik, 5) Model Pembelajaran, 6) Tujuan Pembelajaran, 7) Langkah-langkah Pembelajaran, dan 8) Asesmen. | I83: 4 | M83: =B83 -> 8 | O83: =O87+O86+O85+O84 -> 0 | P83: =IF(O83>=1,"1",IF(O83<=0,"0")) -> 0
C84: Skor : 4 | D84: Jika ada 8 komponen utama, dan khusus komponen ke- 7: LANGKAH-LANGKAH PEMBELAJARAN: menunjukkan inti Pembelajaran Mendalam, yang terbagi 3 tahap (a. Pendahuluan, b. Inti, yang meng-implementasikan 3 Prinsip BBM (Bermakna, Berkesadaran & Menggembirakan) c. Penutup) serta komponen ke- 8: ASESMEN terdiri dari (Asesmen Diagnostik, Asesmen Formatif; Asesmen Sumatif dan Rubrik Penilaian + Instrumen) dengan desain asesmen menguatkan literasi & numerasi. | N84: FALSE | O84: =IF(N84=TRUE,"1",IF(N84=FALSE,"0")) -> 0
C85: Skor : 3 | D85: Jika ada 8 komponen utama, dan khusus komponen ke- 7: LANGKAH-LANGKAH PEMBELAJARAN: menunjukkan inti Pembelajaran Mendalam, yang terbagi 3 tahap (a. Pendahuluan, b. Inti, belum memuat lengkap 3 Prinsip BBM (Bermakna, Berkesadaran & Menggembirakan) c. Penutup) serta komponen ke- 8: ASESMEN terdiri dari (Asesmen Diagnostik, Asesmen Formatif; Asesmen Sumatif dan Rubrik Penilaian + Instrumen) dengan desain asesmen menguatkan literasi & numerasi. | N85: FALSE | O85: =IF(N85=TRUE,"1",IF(N85=FALSE,"0")) -> 0
C86: Skor: 2 | D86: Jika ada 8 komponen utama, dan khusus komponen ke- 7: LANGKAH-LANGKAH PEMBELAJARAN: menunjukkan inti Pembelajaran Mendalam, yang terbagi 3 tahap (a. Pendahuluan, b. Inti, belum memuat lengkap 3 Prinsip BBM (Bermakna, Berkesadaran & Menggembirakan) c. Penutup) serta komponen ke- 8: ASESMEN terdiri dari (Asesmen Diagnostik, Asesmen Formatif; Asesmen Sumatif dan Rubrik Penilaian + Instrumen) dengan desain asesmen masih sebagaian penguatan literasi & numerasi. | N86: FALSE | O86: =IF(N86=TRUE,"1",IF(N86=FALSE,"0")) -> 0
C87: Skor: 1 | D87: Jika ada 8 komponen utama, dan khusus komponen ke- 7: LANGKAH-LANGKAH PEMBELAJARAN: belum mengacu 3 prinsip Pembelajaran Mendalam, serta komponen ke- 8: ASESMEN terdiri dari (Asesmen Diagnostik, Asesmen Formatif; Asesmen Sumatif dan Rubrik Penilaian + Instrumen) dengan desain asesmen belum menunjukkan penguatan literasi & numerasi. | N87: FALSE | O87: =IF(N87=TRUE,"1",IF(N87=FALSE,"0")) -> 0
C88: Skor: 0 | D88: Guru tidak memiliki dokumen RPM | N88: FALSE | O88: =IF(N88=TRUE,"1",IF(N88=FALSE,"0")) -> 0
B90: 9 | C90: Guru memiliki dokumen modul Kokurikuler yang disusun berdasarkan panduan kokurikuler yang berlaku | M90: =B90 -> 9 | N90: 1 | O90: =N90-1 -> 0 | P90: =IF(O90>=1,"1",IF(O90<=0,"0")) -> 0
C91: Skor 4, | D91: Guru memiliki Modul Kokurikuler yang lengkap, sistematis, kontekstual, dan implementatif, disusun berdasarkan Panduan Kokurikuler Pembelajaran Mendalam. Modul memuat tujuan, dimensi profil lulusan, tema/topik, aktivitas kokurikuler, pengalaman belajar, asesmen autentik, refleksi, serta tindak lanjut secara selaras dan terpadu. | N91: TRUE | O91: =IF(N91=TRUE,"1",IF(N91=FALSE,"0")) -> 1
C92: Skor 3, | D92: Guru memiliki Modul Kokurikuler yang mengacu pada Panduan Kokurikuler Pembelajaran Mendalam dan memuat sebagian besar komponen yang dipersyaratkan. Dokumen dapat digunakan dalam pelaksanaan, tetapi masih terdapat beberapa komponen atau keterkaitan yang perlu disempurnakan. | N92: TRUE | O92: =IF(N92=TRUE,"1",IF(N92=FALSE,"0")) -> 1
C93: Skor 2, | D93: Guru memiliki Modul Kokurikuler, tetapi penerapan Panduan Kokurikuler Pembelajaran Mendalam belum utuh. Beberapa komponen penting belum lengkap atau belum menunjukkan keterkaitan yang jelas antara tujuan, aktivitas, dimensi profil lulusan, pengalaman belajar, dan asesmen. | N93: TRUE | O93: =IF(N93=TRUE,"1",IF(N93=FALSE,"0")) -> 1
C94: Skor 1, | D94: Guru memiliki Modul Kokurikuler, yang belum mengacu pada Panduan Kokurikuler Pembelajaran Mendalam dan belum dapat digunakan sebagai pedoman pelaksanaan kokurikuler. | N94: TRUE | O94: =IF(N94=TRUE,"1",IF(N94=FALSE,"0")) -> 1
C95: Skor 0, | D95: Guru tidak memiliki Modul Kokurikuler | N95: FALSE | O95: =IF(N95=TRUE,"1",IF(N95=FALSE,"0")) -> 0
B97: C | C97: PELAKSANAAN PEMBELAJARAN
B99: 10 | C99: Guru memiliki dokumen hasil supervisi kelas oleh Kepala Sekolah | I99: 2 | M99: =B99 -> 10 | N99: 1 | O99: =N99-1 -> 0 | P99: =IF(O99>=1,"1",IF(O99<=0,"0")) -> 0
C100: Skor 4, | D100: Guru memiliki dokumen supervisi kelas yang lengkap dan sistematis, meliputi lembar instrumen pra-observasi, lembar instrumen observasi kelas, dan lembar instrumen pasca-observasi. Seluruh dokumen terisi lengkap, memuat hasil, umpan balik, rekomendasi, serta bukti tindak lanjut perbaikan pembelajaran.
C101: Skor 3, | D101: Guru memiliki dokumen supervisi kelas yang lengkap dan sistematis, meliputi lembar instrumen pra-observasi, lembar instrumen observasi kelas, dan lembar instrumen pasca-observasi. Seluruh dokumen terisi lengkap, memuat hasil, umpan balik, rekomendasi, namun tidak didukung bukti tindak lanjut perbaikan pembelajaran.
C102: Skor 2, | D102: Guru memiliki dokumen supervisi kelas yang mencakup ketiga instrumen utama (pra-observasi, observasi kelas, dan pasca-observasi), namun masih terdapat bagian yang belum lengkap atau tindak lanjut hasil supervisi belum terdokumentasi secara optimal.
C103: Skor 1, | D103: Guru memiliki sebagian dokumen hasil supervisi kelas, tetapi belum didukung secara lengkap oleh ketiga instrumen supervisi. Salah satu atau beberapa instrumen belum tersedia, belum lengkap, atau belum memuat umpan balik dan tindak lanjut secara jelas.
C104: Skor 0, | D104: Guru tidak memiliki dokumen hasil supervisi kelas
B106: 11 | C106: Kinerja guru berdasarkan hasil supervisi kelas oleh Kepala Sekolah | M106: =B106 -> 11 | N106: 1 | O106: =N106-1 -> 0 | P106: =IF(O106>=1,"1",IF(O106<=0,"0")) -> 0
C107: Skor 4, | D107: Guru menunjukkan kinerja pembelajaran yang sangat baik, dipertahankan dan dapat menjadi praktik baik
C108: Skor 3, | D108: Guru menunjukkan kinerja pembelajaran yang baik, dipertahankan dan dioptimalkan
C109: Skor 2, | D109: Guru menunjukkan kinerja pembelajaran yang cukup, diberikan pendampingan dan perbaikan
C110: Skor 1, | D110: Guru menunjukkan kinerja pembelajaran yang kurang, dilakukan pembinaan dan pendampingan berkelanjutan
C111: Skor 0, | D111: Guru menunjukkan kinerja pembelajaran yang Sangat kurang, dilakukan pembinaan dan dialihkan tugaskan menjadi tenaga administrasi
B112: D | C112: PENILAIAN PEMBELAJARAN
B113: 12 | C113: Guru menyusun program penilaian tiap semester yang memuat: | M113: =B113 -> 12 | O113: =O117+O116+O115+O114 -> 0 | P113: =IF(O113>=1,"1",IF(O113<=0,"0")) -> 0
D114: Penilaian Awal (kognitif) | N114: FALSE | O114: =IF(N114=TRUE,"1",IF(N114=FALSE,"0")) -> 0
D115: Penilaian Awal (non kognitif) | N115: FALSE | O115: =IF(N115=TRUE,"1",IF(N115=FALSE,"0")) -> 0
D116: Penilaian formatif proses pembelajaran | N116: FALSE | O116: =IF(N116=TRUE,"1",IF(N116=FALSE,"0")) -> 0
D117: Penilaian sumatif | N117: FALSE | O117: =IF(N117=TRUE,"1",IF(N117=FALSE,"0")) -> 0
D118: Jika tidak menyusun program penilaian | N118: FALSE
B120: 13 | C120: Guru melaksanakan tes Awal Pembelajaran (Assesment As Learning) melalui teknik : | I120: 4 | M120: =B120 -> 13 | O120: =O124+O123+O122+O121 -> 4 | P120: =IF(O120>=1,"1",IF(O120<=0,"0")) -> 1
D121: Teknik diskusi ringan | N121: TRUE | O121: =IF(N121=TRUE,"1",IF(N121=FALSE,"0")) -> 1
D122: Teknik permainan | N122: TRUE | O122: =IF(N122=TRUE,"1",IF(N122=FALSE,"0")) -> 1
D123: Teknik pemberian kuis | N123: TRUE | O123: =IF(N123=TRUE,"1",IF(N123=FALSE,"0")) -> 1
D124: Teknik tanya jawab | N124: TRUE | O124: =IF(N124=TRUE,"1",IF(N124=FALSE,"0")) -> 1
D125: Tidak melakukan tes Awal awal | N125: FALSE
...

Sheet HASIL
B2: PEMERINTAH KABUPATEN LAMONGAN
B3: DINAS PENDIDIKAN
B4: Jalan: KH Ahmad Dahlan No. 73-75 Telp. (0322) 321021 - 324935
B5: E-mail : dinpdk@lamongan.go.id, Website: www.lamongan.go.id
B6: LAMONGAN
B8: HASIL SUPERVISI AKADEMIK
B9: PENILAIAN KINERJA GURU
B11: No. Urut DUK
B13: Nama Lengkap | E13: ='Instrumen MP'!F13 -> MUHAMMAD
B15: NIP | E15: ='Instrumen MP'!F15 -> -
B17: NUPTK | E17: ='Instrumen MP'!F17 -> 0
B19: Pangkat, Gol/Ruang | E19: ='Instrumen MP'!F19 -> -
B21: Pendidikan Terakhir , Jurusan / Prodi | E21: ='Instrumen MP'!F21 -> S1 | F21: ='Instrumen MP'!G21 -> PAI
B23: Sertifikat Pendidik / Tahun
B25: Mata Pelajaran yang diampu | E25: ='Instrumen MP'!F25 -> -
B27: Nama Satminkal | E27: ='Instrumen MP'!F23 -> SMP Ma'arif 4 Mantup
B30: A. Nilai Kinerja
B32: NO | C32: KRITERIA | E32: MINIMAL | F32: CAPAIAN | G32: PREDIKAT
B33: 1 | C33: KUALIFIKASI PENDIDIKAN | E33: 81 | F33: ='Instrumen MP'!H229 -> 50 | G33: =IF(F33>=91, "Amat Baik", IF(F33>=81, "Baik", IF(F33>=71, "Cukup", IF(F33>=60, "Kurang", "Amat Kurang")))) -> Amat Kurang | H33: A
B34: 2 | C34: PERENCANAAN PEMBELAJARAN | E34: 81 | F34: ='Instrumen MP'!H230 -> 25 | G34: =IF(F34>=91, "Amat Baik", IF(F34>=81, "Baik", IF(F34>=71, "Cukup", IF(F34>=60, "Kurang", "Amat Kurang")))) -> Amat Kurang | H34: A
B35: 3 | C35: PELAKSANAAN PEMBELAJARAN | E35: 81 | F35: ='Instrumen MP'!H231 -> 25 | G35: =IF(F35>=91, "Amat Baik", IF(F35>=81, "Baik", IF(F35>=71, "Cukup", IF(F35>=60, "Kurang", "Amat Kurang")))) -> Amat Kurang | H35: A
B36: 4 | C36: PENILAIAN PEMBELAJARAN | E36: 81 | F36: ='Instrumen MP'!H232 -> 14.285714 | G36: =IF(F36>=91, "Amat Baik", IF(F36>=81, "Baik", IF(F36>=71, "Cukup", IF(F36>=60, "Kurang", "Amat Kurang")))) -> Amat Kurang | H36: A
B37: 5 | C37: PENGEMBANGAN PROFESI | E37: 81 | F37: ='Instrumen MP'!H233 -> 25 | G37: =IF(F37>=91, "Amat Baik", IF(F37>=81, "Baik", IF(F37>=71, "Cukup", IF(F37>=60, "Kurang", "Amat Kurang")))) -> Amat Kurang | H37: A
B38: 6 | C38: TUGAS TAMBAHAN/KEGIATAN LAIN | E38: 81 | F38: ='Instrumen MP'!H234 -> 87.5 | G38: =IF(F38>=91, "Amat Baik", IF(F38>=81, "Baik", IF(F38>=71, "Cukup", IF(F38>=60, "Kurang", "Amat Kurang")))) -> Baik | H38: A
B39: 7 | C39: DISIPLIN DAN ETOS KERJA GURU | E39: 81 | F39: ='Instrumen MP'!H235 -> 50 | G39: =IF(F39>=91, "Amat Baik", IF(F39>=81, "Baik", IF(F39>=71, "Cukup", IF(F39>=60, "Kurang", "Amat Kurang")))) -> Amat Kurang | H39: A
B40: 8 | C40: NILAI AKHIR | E40: 81 | F40: =AVERAGE(F33:F39) -> 39.540816 | G40: =IF(F40>=91, "Amat Baik", IF(F40>=81, "Baik", IF(F40>=71, "Cukup", IF(F40>=60, "Kurang", "Amat Kurang")))) -> Amat Kurang | H40: A
B42: B. Kesimpulan
B43: 2.5641026 | C43: Tidak memiliki predikat
B45: C. Rekomendasi
B46: 2.5641026 | C46: Diusulkan untuk dialih tugaskan di bagian administrasi
E50: Lamongan ,
B51: Guru Mata Pelajaran | E51: Pengawas
B54: ='Instrumen MP'!D242 -> MUHAMMAD | E54: ='Instrumen MP'!G242 -> SUHARTONO, S.Pd., M.Pd.
B55: ='Instrumen MP'!D243 -> NIP. - | E55: ='Instrumen MP'!G243 -> NIP. 19630207 198412 1 005
C58: Mengetahui
C59: Kepala Sekolah
C62: WAIMAN, S.Pd.
